BEGIN:VCALENDAR
PRODID:-//eluceo/ical//2.0/EN
VERSION:2.0
CALSCALE:GREGORIAN
BEGIN:VEVENT
UID:3b452bbc0f1c70e635be5fdaaf401445
DTSTAMP:20260423T125025Z
SUMMARY:Shared Legacies Film
DESCRIPTION:Jewish Federation & Foundation of Rockland County\nCommunity Ca
 lendar\nhttps://jewishrockland.org/calendar/shared-legacies-film-164882845
 9\n\nShared legacies film screening
DTSTART;TZID=America/New_York:20220511T183500
DTEND;TZID=America/New_York:20220511T203500
END:VEVENT
END:VCALENDAR
