BEGIN:VCALENDAR
PRODID:-//eluceo/ical//2.0/EN
VERSION:2.0
CALSCALE:GREGORIAN
BEGIN:VEVENT
UID:a6ed3a54e79a52e51792f4cdc1f248a1
DTSTAMP:20260420T070933Z
SUMMARY:Shemini Atzeret Family Program at CSI\, Nyack
DESCRIPTION:Jewish Federation & Foundation of Rockland County\nCommunity Ca
 lendar\nhttps://jewishrockland.org/calendar/shemini-atzeret-family-program
 -at-csi-nyack-oct\n\nCSI Family Program\, October 24\nCongregation Sons of
  Israel\n300 North Broadway\, Upper Nyack\, NY 10960\nJoin us for a family
  program and hot dog party celebrating Shemini Atzeret at 6 pm at CSI.\nFr
 ee Event!!! Everyone’s invited.\nMore information contact us at 845-358-
 3767 or csioffice@optonline.net
DTSTART;TZID=America/New_York:20161024T180000
DTEND;TZID=America/New_York:20161024T193000
END:VEVENT
END:VCALENDAR
