BEGIN:VCALENDAR
PRODID:-//eluceo/ical//2.0/EN
VERSION:2.0
CALSCALE:GREGORIAN
BEGIN:VEVENT
UID:82b2e714a15e0e98c68f9c15b8aa61db
DTSTAMP:20260422T021217Z
SUMMARY:Shmaltz: A Greased-Up Purim\; Nanuet Hebrew Center's Purim Spiel
DESCRIPTION:Jewish Federation & Foundation of Rockland County\nCommunity Ca
 lendar\nhttps://jewishrockland.org/calendar/shmaltz-a-greased-up-purim-nan
 uet-hebrew-center\n\nThe Nanuet Hebrew Center Players present this year's 
 Purim Spiel\, "Shmaltz: A Greased-Up Purim."\n\nMegillah reading will be f
 ollowing by the performance.
DTSTART;TZID=America/New_York:20180228T184500
DTEND;TZID=America/New_York:20180228T210000
END:VEVENT
END:VCALENDAR
