BEGIN:VCALENDAR
PRODID:-//eluceo/ical//2.0/EN
VERSION:2.0
CALSCALE:GREGORIAN
BEGIN:VEVENT
UID:59c6f750c95cc8c48ef014b6a1d6e4dc
DTSTAMP:20260423T071951Z
SUMMARY:Shop at the JCC
DESCRIPTION:Jewish Federation & Foundation of Rockland County\nCommunity Ca
 lendar\nhttps://jewishrockland.org/calendar/shop-at-the-jcc-7508\n\nShop a
 t JCC Rockland
DTSTART;TZID=America/New_York:20131121T100000
DTEND;TZID=America/New_York:20131121T170000
END:VEVENT
END:VCALENDAR
