BEGIN:VCALENDAR
PRODID:-//eluceo/ical//2.0/EN
VERSION:2.0
CALSCALE:GREGORIAN
BEGIN:VEVENT
UID:df7aebc4c9b9ddf7f6958b5b6d6250a1
DTSTAMP:20260423T061026Z
SUMMARY:Shul School - Habayit at New City Jewish Center
DESCRIPTION:Jewish Federation & Foundation of Rockland County\nCommunity Ca
 lendar\nhttps://jewishrockland.org/calendar/shul-school---habayit-at-new-c
 ity-jewish-center-1741028483\n\nJoin Rabbi Allison and Morah Amy for a fun
  filled Shabbat morning experience. Open to kids ages 3 (3-k) through 7th 
 grade. Please let us know if you are interested in joining the groups!
DTSTART;TZID=America/New_York:20250322T093000
DTEND;TZID=America/New_York:20250322T113000
END:VEVENT
END:VCALENDAR
