BEGIN:VCALENDAR
PRODID:-//eluceo/ical//2.0/EN
VERSION:2.0
CALSCALE:GREGORIAN
BEGIN:VEVENT
UID:e4fa5007460f5b654aa8b708f2bc2d1b
DTSTAMP:20260424T000409Z
SUMMARY:Sifriyat Pijama B'America Hebrew Story Time\, Activities and Snacks
DESCRIPTION:Jewish Federation & Foundation of Rockland County\nCommunity Ca
 lendar\nhttps://jewishrockland.org/calendar/sifriyat-pijama-bamerica-14120
 02732\n\nA book in Hebrew\, an activity\, and a snack are a great way to e
 nd the week and get excited for Shabbat!
DTSTART;TZID=America/New_York:20141121T133000
DTEND;TZID=America/New_York:20141121T143000
END:VEVENT
END:VCALENDAR
