BEGIN:VCALENDAR
PRODID:-//eluceo/ical//2.0/EN
VERSION:2.0
CALSCALE:GREGORIAN
BEGIN:VEVENT
UID:b4da6bfa5b1dbc309c7bd96e668353e6
DTSTAMP:20260425T205434Z
SUMMARY:Sifriyat Pijama B'America Hebrew Story Time\, Activities and Snacks
DESCRIPTION:Jewish Federation & Foundation of Rockland County\nCommunity Ca
 lendar\nhttps://jewishrockland.org/calendar/sifriyat-pijama-bamerica-hebre
 w-story-time-activities-and-snacks-1412003881\n\nA book in Hebrew\, an act
 ivity and pizza is a great way to say farewell to Passover and welcome bac
 k to leavened products!
DTSTART;TZID=America/New_York:20150412T170000
DTEND;TZID=America/New_York:20150412T183000
END:VEVENT
END:VCALENDAR
