BEGIN:VCALENDAR
PRODID:-//eluceo/ical//2.0/EN
VERSION:2.0
CALSCALE:GREGORIAN
BEGIN:VEVENT
UID:fb404d8c0a2006ba51cf922f6c719d52
DTSTAMP:20260420T145111Z
SUMMARY:Silencing Women in the Name of God
DESCRIPTION:Jewish Federation & Foundation of Rockland County\nCommunity Ca
 lendar\nhttps://jewishrockland.org/calendar/silencing-women-in-the-name-of
 -god-1771554001\n\nguest speaker Rabbi Allison Berlinger will explore the 
 questions:\nDoes Judaism use God’s name to control women’s bodies and 
 lives? How have sacred texts been used to control and silence women—and 
 what are the real consequences?
DTSTART;TZID=America/New_York:20260304T190000
DTEND;TZID=America/New_York:20260304T203000
END:VEVENT
END:VCALENDAR
