BEGIN:VCALENDAR
PRODID:-//eluceo/ical//2.0/EN
VERSION:2.0
CALSCALE:GREGORIAN
BEGIN:VEVENT
UID:697ebddc4addb0da3ac820e0cdbc87cb
DTSTAMP:20260425T151730Z
SUMMARY:Simchat Torah Dinner & Celebration
DESCRIPTION:Jewish Federation & Foundation of Rockland County\nCommunity Ca
 lendar\nhttps://jewishrockland.org/calendar/simchat-torah-1411062510-10895
 0\n\nCelebrate Simchat Torah with the OJC. Enjoy dinner and lots of fun!
DTSTART;TZID=America/New_York:20141016T174500
DTEND;TZID=America/New_York:20141016T203000
END:VEVENT
END:VCALENDAR
