BEGIN:VCALENDAR
PRODID:-//eluceo/ical//2.0/EN
VERSION:2.0
CALSCALE:GREGORIAN
BEGIN:VEVENT
UID:5eb597484609938be2e6327285d56946
DTSTAMP:20260420T102245Z
SUMMARY:Simchat Torah Club at CSI
DESCRIPTION:Jewish Federation & Foundation of Rockland County\nCommunity Ca
 lendar\nhttps://jewishrockland.org/calendar/simchat-torah-club-at-csi-7454
 \n\nSimchat Torah Club at CSI
DTSTART;TZID=America/New_York:20130927T110000
DTEND;TZID=America/New_York:20130927T120000
END:VEVENT
END:VCALENDAR
