BEGIN:VCALENDAR
PRODID:-//eluceo/ical//2.0/EN
VERSION:2.0
CALSCALE:GREGORIAN
BEGIN:VEVENT
UID:527d39597a835f4ba5dfb6f335f711fe
DTSTAMP:20260422T020050Z
SUMMARY:Simchat Torah Service and Dinner at Temple Beth Sholom
DESCRIPTION:Jewish Federation & Foundation of Rockland County\nCommunity Ca
 lendar\nhttps://jewishrockland.org/calendar/simchat-torah-service-and-dinn
 er-at-temple-beth-sholom-1441817818-165183\n\nJoin the welcoming congregat
 ion at Temple Beth Sholom at our lively\, musical Simchat Torah celebratio
 n and consecration of new students. Pizza dinner to follow.
DTSTART;TZID=America/New_York:20151004T170000
DTEND;TZID=America/New_York:20151004T193000
END:VEVENT
END:VCALENDAR
