BEGIN:VCALENDAR
PRODID:-//eluceo/ical//2.0/EN
VERSION:2.0
CALSCALE:GREGORIAN
BEGIN:VEVENT
UID:6693ee557b539035bf838c597a9c991a
DTSTAMP:20260424T160017Z
SUMMARY:Celebrate Simkhat Torah At Beth Am Temple
DESCRIPTION:Jewish Federation & Foundation of Rockland County\nCommunity Ca
 lendar\nhttps://jewishrockland.org/calendar/simkhat-torah-beth-am-temple-2
 016-209397\n\nJoin the joyous service of Erev Simkhat Torah beginning at 7
  pm on Sunday\, Oct. 23 at Beth Am Temple. The celebration of reading and 
 learning Torah features singing and dancing and the ceremonial unrolling o
 f the Torah scroll while it is held up by everyone at the service. Simkhat
  Torah marks the end of the annual cycle of reading Torah and begins the n
 ew cycle with the story of creation and Genesis Chapter 1. The Erev Simkha
 t Torah service is fun\, brief\, and appropriate for children and open...
DTSTART;TZID=America/New_York:20161023T190000
DTEND;TZID=America/New_York:20161023T194500
END:VEVENT
END:VCALENDAR
