BEGIN:VCALENDAR
PRODID:-//eluceo/ical//2.0/EN
VERSION:2.0
CALSCALE:GREGORIAN
BEGIN:VEVENT
UID:c305461a609d60a5f00cd1025aeaf87f
DTSTAMP:20260422T185906Z
SUMMARY:Simple Abundance - August 4
DESCRIPTION:Jewish Federation & Foundation of Rockland County\nCommunity Ca
 lendar\nhttps://jewishrockland.org/calendar/simple-abundance-august-4-7565
 7\n\nJoin Rabbi Drill for a summer of discovery\, creativity and growth. J
 ewish study based on the book.
DTSTART;TZID=America/New_York:20140804T110000
DTEND;TZID=America/New_York:20140804T123000
END:VEVENT
END:VCALENDAR
