BEGIN:VCALENDAR
PRODID:-//eluceo/ical//2.0/EN
VERSION:2.0
CALSCALE:GREGORIAN
BEGIN:VEVENT
UID:86c1e83aee4b5bcb82eb407c06da5601
DTSTAMP:20260424T172930Z
SUMMARY:Sisterhood Breakfast and Tupperware Kickoff Fundraiser
DESCRIPTION:Jewish Federation & Foundation of Rockland County\nCommunity Ca
 lendar\nhttps://jewishrockland.org/calendar/sisterhood-breakfast-and-tuppe
 rware-kickoff-fundraiser-1501782499\n\nNanuet Hebrew Center Sisterhood wil
 l be holding a Breakfast and Tupperware Kickoff Fundraiser.  9:30am – 12
  noon.  Please invite your family and friends\; RSVP to NHC Office at offi
 ce@nanuethc.org or 845-708-9181. \n\nClick here for more info: www.nanueth
 c.org/wp-content/uploads/2017/06/NHC-Sisterhood-Tupperware-Breakfast-Sept-
 10-2017.jpg
DTSTART;TZID=America/New_York:20170910T093000
DTEND;TZID=America/New_York:20170910T120000
END:VEVENT
END:VCALENDAR
