BEGIN:VCALENDAR
PRODID:-//eluceo/ical//2.0/EN
VERSION:2.0
CALSCALE:GREGORIAN
BEGIN:VEVENT
UID:62714c60fc35a2090ef3f31bb8f66c84
DTSTAMP:20260424T032506Z
SUMMARY: Sisterhood Shabbat Service and Dinner at CSI 6 p.m.
DESCRIPTION:Jewish Federation & Foundation of Rockland County\nCommunity Ca
 lendar\nhttps://jewishrockland.org/calendar/sisterhood-shabbat-service-and
 -dinner-at-csi-6-pm-1419183885\n\nFriday\, January 23\, Sisterhood Shabbat
  Service and Dinner at CSI 6 p.m.  Join us at CSI as our Sisterhood leads 
 us in prayer and song. Cost $18 for Adults and $5 for Children  RSVP by Ja
 nuary 19.  Congregation Sons of Israel\, 300 N. Broadway\, Upper Nyack\, N
 Y 10960. For more information and RSVP contact us at 845-358-3767 or csiof
 fice@optonline.net
DTSTART;TZID=America/New_York:20150123T180000
DTEND;TZID=America/New_York:20150123T203000
END:VEVENT
END:VCALENDAR
