BEGIN:VCALENDAR
PRODID:-//eluceo/ical//2.0/EN
VERSION:2.0
CALSCALE:GREGORIAN
BEGIN:VEVENT
UID:95b737484b77cd0137a9ea4c36ecc987
DTSTAMP:20260420T000224Z
SUMMARY:Smarty Pants Early Childhood Center Open House
DESCRIPTION:Jewish Federation & Foundation of Rockland County\nCommunity Ca
 lendar\nhttps://jewishrockland.org/calendar/smarty-pants-early-childhood-c
 enter-open-house\n\nEarly Childhood Center open house
DTSTART;TZID=America/New_York:20130918T100000
DTEND;TZID=America/New_York:20130918T120000
END:VEVENT
END:VCALENDAR
