BEGIN:VCALENDAR
PRODID:-//eluceo/ical//2.0/EN
VERSION:2.0
CALSCALE:GREGORIAN
BEGIN:VEVENT
UID:b8c768fae5a62ac694fa7da66af42caa
DTSTAMP:20260422T161321Z
SUMMARY:Someday Melissa\, The Story of an Eating Disorder\, Loss and Hope
DESCRIPTION:Jewish Federation & Foundation of Rockland County\nCommunity Ca
 lendar\nhttps://jewishrockland.org/calendar/someday-melissa-the-story-of-a
 n-eating-disorder-loss-and-hope\n\nSomeday Melissa
DTSTART;TZID=America/New_York:20131022T190000
DTEND;TZID=America/New_York:20131022T210000
END:VEVENT
END:VCALENDAR
