BEGIN:VCALENDAR
PRODID:-//eluceo/ical//2.0/EN
VERSION:2.0
CALSCALE:GREGORIAN
BEGIN:VEVENT
UID:d1a591ac8f2ca0d6bb10cbf4282527ec
DTSTAMP:20260422T164127Z
SUMMARY:Spa Night for the Body and Soul
DESCRIPTION:Jewish Federation & Foundation of Rockland County\nCommunity Ca
 lendar\nhttps://jewishrockland.org/calendar/spa-night-for-the-body-and-sou
 l\n\nWomen's Circle Spa Night
DTSTART;TZID=America/New_York:20131029T190000
DTEND;TZID=America/New_York:20131029T213000
END:VEVENT
END:VCALENDAR
