BEGIN:VCALENDAR
PRODID:-//eluceo/ical//2.0/EN
VERSION:2.0
CALSCALE:GREGORIAN
BEGIN:VEVENT
UID:827794ed9fac2eed002fb9685459c7dc
DTSTAMP:20260420T182939Z
SUMMARY: Spaghetti and Bingo at CSI\, 5 p.m.
DESCRIPTION:Jewish Federation & Foundation of Rockland County\nCommunity Ca
 lendar\nhttps://jewishrockland.org/calendar/spaghetti-and-bingo-at-csi-5-p
 m-1419183669\n\nSunday\, January 25\, Spaghetti and Bingo at CSI\, 5 p.m. 
 Join CSI for a family fun night of spaghetti and bingo Cost: $5/adult\, $2
  children ages 5-12 \, children under 5 are free. RSVP by January 19.  Con
 gregation Sons of Israel\, 300 N. Broadway\, Upper Nyack\, NY 10960. For m
 ore information and RSVP contact us at 845-358-3767 or csioffice@optonline
 .net
DTSTART;TZID=America/New_York:20150125T170000
DTEND;TZID=America/New_York:20150125T190000
END:VEVENT
END:VCALENDAR
