BEGIN:VCALENDAR
PRODID:-//eluceo/ical//2.0/EN
VERSION:2.0
CALSCALE:GREGORIAN
BEGIN:VEVENT
UID:5bc6e54b84227f99cc6fafaec3749a28
DTSTAMP:20260423T070149Z
SUMMARY:Spring Boutique
DESCRIPTION:Jewish Federation & Foundation of Rockland County\nCommunity Ca
 lendar\nhttps://jewishrockland.org/calendar/spring-boutique-1583257092\n\n
 Spring Boutique - Jewelry\, handbags\, kids and adult clothing\, make up a
 nd more. Vendor space available.
DTSTART;TZID=America/New_York:20200419T100000
DTEND;TZID=America/New_York:20200419T170000
END:VEVENT
END:VCALENDAR
