BEGIN:VCALENDAR
PRODID:-//eluceo/ical//2.0/EN
VERSION:2.0
CALSCALE:GREGORIAN
BEGIN:VEVENT
UID:5ee2022444a91425804ac93a2326e497
DTSTAMP:20260424T075124Z
SUMMARY:Stand Up To Jewish Hate Blue Square Shabbat
DESCRIPTION:Jewish Federation & Foundation of Rockland County\nCommunity Ca
 lendar\nhttps://jewishrockland.org/calendar/stand-up-to-jewish-hate-blue-s
 quare-shabbat-1775500601\n\nStand Up To Jewish Hate at The Reform Temple o
 f Rockland's Blue Square Shabbat. Bring your family and friends. Blue Squa
 re pins will be distributed.
DTSTART;TZID=America/New_York:20260424T193000
DTEND;TZID=America/New_York:20260424T210000
END:VEVENT
END:VCALENDAR
