BEGIN:VCALENDAR
PRODID:-//eluceo/ical//2.0/EN
VERSION:2.0
CALSCALE:GREGORIAN
BEGIN:VEVENT
UID:52b201c7e112a0815bd6b69387e03b25
DTSTAMP:20260423T055044Z
SUMMARY:Stand with the JCC-A-THON
DESCRIPTION:Jewish Federation & Foundation of Rockland County\nCommunity Ca
 lendar\nhttps://jewishrockland.org/calendar/stand-with-the-jcc-a-thon-1597
 413686\n\nCommunity fundraiser to support JCC Rockland
DTSTART;TZID=America/New_York:20200913T103000
DTEND;TZID=America/New_York:20200913T130000
END:VEVENT
END:VCALENDAR
