BEGIN:VCALENDAR
PRODID:-//eluceo/ical//2.0/EN
VERSION:2.0
CALSCALE:GREGORIAN
BEGIN:VEVENT
UID:a52d9e1008a129edc52995958b8226ff
DTSTAMP:20260422T030740Z
SUMMARY:STARS OF DAVID & MORE!
DESCRIPTION:Jewish Federation & Foundation of Rockland County\nCommunity Ca
 lendar\nhttps://jewishrockland.org/calendar/stars-of-david-more\n\nHear th
 e stories of prominent Jews like Fran Drescher\, Ruth Bader Ginsberg\, Leo
 nard Nimoy\, Norman Lear and more...\nTalented cantors bring the stories o
 f their lives as Jews to life IN SONG\; featuring \nCantor David Perper & 
 Cantor Faith Steinsnyder and friends\, \nwith Itay Goren as Accompanist.\n
 (Laughter & Tears included!)\n
DTSTART;TZID=America/New_York:20180506T190000
DTEND;TZID=America/New_York:20180506T210000
END:VEVENT
END:VCALENDAR
