BEGIN:VCALENDAR
PRODID:-//eluceo/ical//2.0/EN
VERSION:2.0
CALSCALE:GREGORIAN
BEGIN:VEVENT
UID:b7844e646a3a9a143426163b1d31909f
DTSTAMP:20260423T110255Z
SUMMARY:Start of Summer "Meet & Mingle" Community Tot Shabbat\, BBQ\, Eveni
 ng Service
DESCRIPTION:Jewish Federation & Foundation of Rockland County\nCommunity Ca
 lendar\nhttps://jewishrockland.org/calendar/start-of-summer-meet--mingle-c
 ommunity-tot-shabbat-bbq-evening-service-1433874289\n\nNanuet Hebrew Cente
 r\, in New City\, NY  will be hosting its annual Start of Summer\, Meet-an
 d-Mingle Community BBQ\, including Tot Shabbat and Evening Service on Frid
 ay\, June 19th.\n \nThis "open house" event is open to the Community and w
 ill include Tot Shabbat at 5:00pm\, BBQ at 5:30pm (including live music by
  NHC's Temple Dudes)\, and Shabbat Evening Service at 6:30pm (with live mu
 sic continuing during Kabbalat Shabbat).\n \nPotential new congregants are
  invited to ask about Nanuet Hebrew...
DTSTART;TZID=America/New_York:20150619T173000
DTEND;TZID=America/New_York:20150619T203000
END:VEVENT
END:VCALENDAR
