BEGIN:VCALENDAR
PRODID:-//eluceo/ical//2.0/EN
VERSION:2.0
CALSCALE:GREGORIAN
BEGIN:VEVENT
UID:d870c5be619360a7a74e7196cc0b2d16
DTSTAMP:20260425T161602Z
SUMMARY:JCC Rockland ABC Event: Stephen Flatow
DESCRIPTION:Jewish Federation & Foundation of Rockland County\nCommunity Ca
 lendar\nhttps://jewishrockland.org/calendar/stephen-flatow-a-fathers-story
 \n\nStephen Flatow’s life changed\, when he learned his twenty year old 
 daughter had been a victim of a terrorist bus-bombing in Israel. After he 
 discovered the Iranian government had directly sponsored the bomber\, this
  real estate lawyer from NJ decided to sue the terror state. Join us as St
 ephen recalls the events surrounding this landmark lawsuit which not only 
 sought justice for his daughter\, Alisa\, but became legendary throughout 
 the international legal community.\n\nVisit JCC Rockland ABC ...
DTSTART;TZID=America/New_York:20181101T190000
DTEND;TZID=America/New_York:20181101T203000
END:VEVENT
END:VCALENDAR
