BEGIN:VCALENDAR
PRODID:-//eluceo/ical//2.0/EN
VERSION:2.0
CALSCALE:GREGORIAN
BEGIN:VEVENT
UID:db57c2a4d990a5e6231a43f07deda433
DTSTAMP:20260423T091055Z
SUMMARY:Still Fighting for Women's Rights
DESCRIPTION:Jewish Federation & Foundation of Rockland County\nCommunity Ca
 lendar\nhttps://jewishrockland.org/calendar/still-fighting-for-womens-righ
 ts-1566578649\n\nCongresswoman Nita Lowey\, NYS Assembly woman Ellen Jaffe
 \, and Sydney Ratnow\, Advocate for the National Organization of Women (NO
 W)\, will discuss the state of Women&#039\;s rights in the present environ
 ment in Washington\, NYS\, and locally.  The public is  invited to attend.
   Admission is free and light refreshments will be served. 
DTSTART;TZID=America/New_York:20190904T193000
DTEND;TZID=America/New_York:20190904T213000
END:VEVENT
END:VCALENDAR
