BEGIN:VCALENDAR
PRODID:-//eluceo/ical//2.0/EN
VERSION:2.0
CALSCALE:GREGORIAN
BEGIN:VEVENT
UID:f357877653075e294fc9633506bd1723
DTSTAMP:20260421T001858Z
SUMMARY:Suffern Chanukah Festival
DESCRIPTION:Jewish Federation & Foundation of Rockland County\nCommunity Ca
 lendar\nhttps://jewishrockland.org/calendar/suffern-chanukah-festival\n\nS
 uffern Chanukah Festival
DTSTART;TZID=America/New_York:20131202T170000
DTEND;TZID=America/New_York:20131202T180000
END:VEVENT
END:VCALENDAR
