BEGIN:VCALENDAR
PRODID:-//eluceo/ical//2.0/EN
VERSION:2.0
CALSCALE:GREGORIAN
BEGIN:VEVENT
UID:22cc53e8ecaad6bf55b6ff387ef776f3
DTSTAMP:20260422T190616Z
SUMMARY:Sukey Molloy & Friends!
DESCRIPTION:Jewish Federation & Foundation of Rockland County\nCommunity Ca
 lendar\nhttps://jewishrockland.org/calendar/sukey-molloy--friends\n\nSukey
  Molloy & Friends!
DTSTART;TZID=America/New_York:20130508T103000
DTEND;TZID=America/New_York:20130508T110000
END:VEVENT
END:VCALENDAR
