BEGIN:VCALENDAR
PRODID:-//eluceo/ical//2.0/EN
VERSION:2.0
CALSCALE:GREGORIAN
BEGIN:VEVENT
UID:8279e6d11e6ad39577607c513969cae3
DTSTAMP:20260424T192522Z
SUMMARY:Sukey Molloy & Friends!  Winter Concert
DESCRIPTION:Jewish Federation & Foundation of Rockland County\nCommunity Ca
 lendar\nhttps://jewishrockland.org/calendar/sukey-molloy--friends--winter-
 concert-1449776985-174464\n\nJoin Sukey Molloy & Friends for sing-along fu
 n with songs to make you happy!
DTSTART;TZID=America/New_York:20160106T103000
DTEND;TZID=America/New_York:20160106T113000
END:VEVENT
END:VCALENDAR
