BEGIN:VCALENDAR
PRODID:-//eluceo/ical//2.0/EN
VERSION:2.0
CALSCALE:GREGORIAN
BEGIN:VEVENT
UID:e4af6272270562b9ad9eec25ab0fdab3
DTSTAMP:20260421T174540Z
SUMMARY:Sukey Molloy & Friends! Winter Holiday Concert
DESCRIPTION:Jewish Federation & Foundation of Rockland County\nCommunity Ca
 lendar\nhttps://jewishrockland.org/calendar/sukey-molloy-friends-winter-ho
 liday-concert-171379\n\nCall library to register: 845-358-3370
DTSTART;TZID=America/New_York:20151211T110000
DTEND;TZID=America/New_York:20151211T120000
END:VEVENT
END:VCALENDAR
