BEGIN:VCALENDAR
PRODID:-//eluceo/ical//2.0/EN
VERSION:2.0
CALSCALE:GREGORIAN
BEGIN:VEVENT
UID:a454ae1c15c65b7d487816066a9d1b39
DTSTAMP:20260420T175038Z
SUMMARY:Sukkot Festival Morning Service at RTR
DESCRIPTION:Jewish Federation & Foundation of Rockland County\nCommunity Ca
 lendar\nhttps://jewishrockland.org/calendar/sukkot-festival-morning-servic
 e-at-rtr-1532447169\n\nNo tickets are required to join us for Sukkot Festi
 val Morning Service: a meaningful service led by Rabbi Sharff.
DTSTART;TZID=America/New_York:20180924T103000
DTEND;TZID=America/New_York:20180924T120000
END:VEVENT
END:VCALENDAR
