BEGIN:VCALENDAR
PRODID:-//eluceo/ical//2.0/EN
VERSION:2.0
CALSCALE:GREGORIAN
BEGIN:VEVENT
UID:794a48667b02aa57d972ddd8ad97eaa4
DTSTAMP:20260425T214312Z
SUMMARY:Sukkot Services followed by Dinner
DESCRIPTION:Jewish Federation & Foundation of Rockland County\nCommunity Ca
 lendar\nhttps://jewishrockland.org/calendar/sukkot-services-followed-by-di
 nner-nhc2017\n\nSukkot Services at 6pm\, followed by dinner at 6:35pm. \n\
 n Reservations are a “must” for the dinner.  Please RSVP by September 
 13th to 845-708-9181 or kari.warren@nanuethc.org.  \n\nCost for Dinner: Ad
 ults: $5\; maximum\; $10 per family. \n\nPlease call the religious school 
 (845-708-9181) to be a sponsor\, or to help with this event.  
DTSTART;TZID=America/New_York:20171004T180000
DTEND;TZID=America/New_York:20171004T200000
END:VEVENT
END:VCALENDAR
