BEGIN:VCALENDAR
PRODID:-//eluceo/ical//2.0/EN
VERSION:2.0
CALSCALE:GREGORIAN
BEGIN:VEVENT
UID:5814315498ec3571136257069c2b72e3
DTSTAMP:20260420T202819Z
SUMMARY:Sukkot Tot/Pre-K Program
DESCRIPTION:Jewish Federation & Foundation of Rockland County\nCommunity Ca
 lendar\nhttps://jewishrockland.org/calendar/sukkot-tot-pre-k-program-7437\
 n\nSukkot Tot/Pre-K Program
DTSTART;TZID=America/New_York:20130919T113000
DTEND;TZID=America/New_York:20130919T123000
END:VEVENT
END:VCALENDAR
