BEGIN:VCALENDAR
PRODID:-//eluceo/ical//2.0/EN
VERSION:2.0
CALSCALE:GREGORIAN
BEGIN:VEVENT
UID:3054c128e2332cfb67f585cfbc888ff4
DTSTAMP:20260419T194023Z
SUMMARY:Sunday Morning Coffee and Meet & Greet at Nanuet Hebrew Center
DESCRIPTION:Jewish Federation & Foundation of Rockland County\nCommunity Ca
 lendar\nhttps://jewishrockland.org/calendar/sunday-morning-coffee-and-meet
 --greet-at-nanuet-hebrew-center\n\nSunday Morning Meet & Greet at NHC!
DTSTART;TZID=America/New_York:20131020T090000
DTEND;TZID=America/New_York:20131020T113000
END:VEVENT
END:VCALENDAR
