BEGIN:VCALENDAR
PRODID:-//eluceo/ical//2.0/EN
VERSION:2.0
CALSCALE:GREGORIAN
BEGIN:VEVENT
UID:ce26f94b0c97f624585981aef01ea0cd
DTSTAMP:20260421T143735Z
SUMMARY:Sunday Playground Hangout
DESCRIPTION:Jewish Federation & Foundation of Rockland County\nCommunity Ca
 lendar\nhttps://jewishrockland.org/calendar/sunday-playground-hangout-1410
 801785-106120\n\nCome hang out at the park with friends and meet new peopl
 e. Bring coffee and talk with other adults while the kids play. Location: 
 Veteran's Memorial Park in Orangeburg\, New York
DTSTART;TZID=America/New_York:20140921T090000
DTEND;TZID=America/New_York:20140921T103000
END:VEVENT
END:VCALENDAR
