BEGIN:VCALENDAR
PRODID:-//eluceo/ical//2.0/EN
VERSION:2.0
CALSCALE:GREGORIAN
BEGIN:VEVENT
UID:a82cd319e4461992faa6cdce77f14d0a
DTSTAMP:20260421T190805Z
SUMMARY:Sunday Playground Hangout
DESCRIPTION:Jewish Federation & Foundation of Rockland County\nCommunity Ca
 lendar\nhttps://jewishrockland.org/calendar/sunday-playground-hangout-1410
 801993-106124\n\nCome hang out at the park with friends and meet new peopl
 e. Bring coffee and talk with other adults while the kids play. Locations 
 TBD on Facebook: https://www.facebook.com/OrangetownJewishCenter
DTSTART;TZID=America/New_York:20141005T090000
DTEND;TZID=America/New_York:20141005T103000
END:VEVENT
END:VCALENDAR
