BEGIN:VCALENDAR
PRODID:-//eluceo/ical//2.0/EN
VERSION:2.0
CALSCALE:GREGORIAN
BEGIN:VEVENT
UID:7b8f69413d7571edd0a52463befa3303
DTSTAMP:20260425T192950Z
SUMMARY:Super Sunday 2016
DESCRIPTION:Jewish Federation & Foundation of Rockland County\nCommunity Ca
 lendar\nhttps://jewishrockland.org/calendar/super-sunday-2016-143473\n\nJo
 in us for our largest volunteer fundraising and community-building effor
 t of the year.  \n\nThe more volunteers we have\, the more $$ we can rais
 e!\n\nREGISTER FOR YOUR TIME SLOT NOW  (Please bring your cell phone and 
 charger.)\n\nREGISTER HERE For the PJ Library Super Sunday Superhero progr
 am (details below).\n\nSuper Sunday Co-Chairs: Jeff Koenig and Rachel Shin
 der\n\n\n\nWe thank our sponsors:\n\nTo become a sponsor\, please contact 
 Beth at bweiss-dunn@jewishrockland.org.\n\n \n\n\n\n...
DTSTART;TZID=America/New_York:20160124T093000
DTEND;TZID=America/New_York:20160124T150000
END:VEVENT
END:VCALENDAR
