BEGIN:VCALENDAR
PRODID:-//eluceo/ical//2.0/EN
VERSION:2.0
CALSCALE:GREGORIAN
BEGIN:VEVENT
UID:d6f8f0d9258d034703f5c17ce65fb2fb
DTSTAMP:20260424T094522Z
SUMMARY:Super Sunday - Jewish Federation & Foundation of Rockland County
DESCRIPTION:Jewish Federation & Foundation of Rockland County\nCommunity Ca
 lendar\nhttps://jewishrockland.org/calendar/super-sunday-jewish-federation
 -foundation-of-rockland-county-192202\n\nStand up...\nfor hope\nfor advoca
 cy\nfor Jewish unity\nfor Israel\n\n\nSuper Sunday is a day of philanthrop
 y that unites us as a people and demonstrates the power of community.\n\nW
 hen your phone rings on Super Sunday\, please answer the call and make you
 r gift to Federation's 2017 Annual Campaign. (You won't be called if you m
 ake your gift now!)\n\nIt's the perfect time of year to stand up and help 
 your global Jewish community. You'll make a world of difference and get yo
 ur year-end tax ded...
DTSTART;TZID=America/New_York:20161211T090000
DTEND;TZID=America/New_York:20161211T130000
END:VEVENT
END:VCALENDAR
