BEGIN:VCALENDAR
PRODID:-//eluceo/ical//2.0/EN
VERSION:2.0
CALSCALE:GREGORIAN
BEGIN:VEVENT
UID:268bf44aef838af77f8e14bf5e2c35fe
DTSTAMP:20260424T010709Z
SUMMARY:Supper in the Sukkah:  The OJC Sisterhood invites you to " Good Upl
 ift"
DESCRIPTION:Jewish Federation & Foundation of Rockland County\nCommunity Ca
 lendar\nhttps://jewishrockland.org/calendar/supper-in-the-sukkah-ojc-siste
 rhood-good-uplift\n\n"A Good Uplift" provides a glimpse into the world of 
 a Lower East Side Lingerie shop where Orthodox Jewish Culture meets - and 
 embraces - modern day struggles with sexuality\, body image and women's ro
 les.
DTSTART;TZID=America/New_York:20161019T190000
DTEND;TZID=America/New_York:20161019T213000
END:VEVENT
END:VCALENDAR
