BEGIN:VCALENDAR
PRODID:-//eluceo/ical//2.0/EN
VERSION:2.0
CALSCALE:GREGORIAN
BEGIN:VEVENT
UID:7336a0d919d0aca472d6fd1c91a6d9da
DTSTAMP:20260421T074433Z
SUMMARY:Supporting Israel Around the World
DESCRIPTION:Jewish Federation & Foundation of Rockland County\nCommunity Ca
 lendar\nhttps://jewishrockland.org/calendar/supporting-israel-around-world
 -129287\n\nPlease join us for this FREE event with StandWIthUs\n\nAre you 
 a high school or college student\, or parent of one?  Do you want to be m
 ore comfortable defending Israel in conversation with friends?\n\nStandWit
 hUs is an international\, non-profit organization that believes education 
 is the road to peace. StandWithUs is dedicated to informing the public abo
 ut Israel and to combating the extremism and anti-Semitism that often dist
 orts the issues. We believe that knowledge of the facts will corre...
DTSTART;TZID=America/New_York:20150319T190000
DTEND;TZID=America/New_York:20150319T210000
END:VEVENT
END:VCALENDAR
