BEGIN:VCALENDAR
PRODID:-//eluceo/ical//2.0/EN
VERSION:2.0
CALSCALE:GREGORIAN
BEGIN:VEVENT
UID:6194257b7b6b5f4dc55286d38725e4c8
DTSTAMP:20260420T005422Z
SUMMARY:Sustainable Nation
DESCRIPTION:Jewish Federation & Foundation of Rockland County\nCommunity Ca
 lendar\nhttps://jewishrockland.org/calendar/sustainable-nation-1590161201\
 n\nSustainable Nation\, the new hour-long documentary from Imagination Pro
 ductions\, follows three individuals who are doing their part to bring sus
 tainable water solutions to an increasingly thirsty planet. Using solution
 s developed in water-poor Israel\, they are working to change the status q
 uo of a world where one in ten people lacks access to safe drinking water.
DTSTART;TZID=America/New_York:20200725T211500
DTEND;TZID=America/New_York:20200727T211500
END:VEVENT
END:VCALENDAR
