BEGIN:VCALENDAR
PRODID:-//eluceo/ical//2.0/EN
VERSION:2.0
CALSCALE:GREGORIAN
BEGIN:VEVENT
UID:b64294c7a89a36b0f2857bb8b002a0af
DTSTAMP:20260419T215316Z
SUMMARY:Synagogue Leadership Council Meeting
DESCRIPTION:Jewish Federation & Foundation of Rockland County\nCommunity Ca
 lendar\nhttps://jewishrockland.org/calendar/synagogue-leadership-council-m
 eeting\n\nSynagogue Leadership Council Meeting
DTSTART;TZID=America/New_York:20131218T183000
DTEND;TZID=America/New_York:20131218T200000
END:VEVENT
END:VCALENDAR
