BEGIN:VCALENDAR
PRODID:-//eluceo/ical//2.0/EN
VERSION:2.0
CALSCALE:GREGORIAN
BEGIN:VEVENT
UID:35363f52456f3126282a26d5b57eea2c
DTSTAMP:20260419T194349Z
SUMMARY:Taste of Melton: Free Adult Education Class
DESCRIPTION:Jewish Federation & Foundation of Rockland County\nCommunity Ca
 lendar\nhttps://jewishrockland.org/calendar/taste-of-melton-free-adult-ed-
 class-195779\n\nThe Florence Melton School of Adult Jewish Learning invite
 s you to join the great Jewish conversation! Join us for a free course tha
 t introduces learners to the world-class Florence Melton curriculum\, led 
 by Rabbi Paula Mack Drill. RSVP by calling Roberta at 845-362-4200 ext. 13
 0.
DTSTART;TZID=America/New_York:20160818T100000
DTEND;TZID=America/New_York:20160818T110000
END:VEVENT
END:VCALENDAR
