BEGIN:VCALENDAR
PRODID:-//eluceo/ical//2.0/EN
VERSION:2.0
CALSCALE:GREGORIAN
BEGIN:VEVENT
UID:0b589bf77dfcd9bda3cbf140a13dd564
DTSTAMP:20260424T043022Z
SUMMARY:TBS Tot Shabbat
DESCRIPTION:Jewish Federation & Foundation of Rockland County\nCommunity Ca
 lendar\nhttps://jewishrockland.org/calendar/tbs-tot-shabbat-1731611914\n\n
 Join Rabbi Leiken and Cantor Anna at Temple Beth Sholom (on the 3rd floor 
 of the JCC) for a fun-filled Shabbat experience perfect for kids age pre-s
 chool - 2nd grade. We will serve pizza\, sing songs\, and Rabbi and Cantor
  will lead everyone in age-appropriate songs to welcome Shabbat.
DTSTART;TZID=America/New_York:20241122T173000
DTEND;TZID=America/New_York:20241122T183000
END:VEVENT
END:VCALENDAR
