BEGIN:VCALENDAR
PRODID:-//eluceo/ical//2.0/EN
VERSION:2.0
CALSCALE:GREGORIAN
BEGIN:VEVENT
UID:86bcfd043022f0fb17c24b63ce226a82
DTSTAMP:20260421T021851Z
SUMMARY:Tea Time Talks- Radical Jewish Women
DESCRIPTION:Jewish Federation & Foundation of Rockland County\nCommunity Ca
 lendar\nhttps://jewishrockland.org/calendar/tea-time-talks--radical-jewish
 -women-1648225243\n\nJoin us as we discuss Jewish women who have been chan
 ge makers both inside and outside the Jewish community. How did Jewish cul
 ture and tradition impact these secular and religious influencers?
DTSTART;TZID=America/New_York:20220331T150000
DTEND;TZID=America/New_York:20220331T170000
END:VEVENT
END:VCALENDAR
