BEGIN:VCALENDAR
PRODID:-//eluceo/ical//2.0/EN
VERSION:2.0
CALSCALE:GREGORIAN
BEGIN:VEVENT
UID:f1d005ef556f66f20aca3f1daaa343df
DTSTAMP:20260419T201655Z
SUMMARY:Team Trivia Night
DESCRIPTION:Jewish Federation & Foundation of Rockland County\nCommunity Ca
 lendar\nhttps://jewishrockland.org/calendar/team-trivia-night-1581084534\n
 \nBack by popular demand\, Montebello Jewish Center is holding another Tea
 m Trivia Night! Bring your team or form one on the spot – and prizes wil
 l be awarded to winning teams. The evening includes dinner and dessert. Fo
 r more information or to RSVP\, contact Montebello Jewish Center\, (845) 3
 57-2430 or office@montebellojc.org.
DTSTART;TZID=America/New_York:20200307T193000
DTEND;TZID=America/New_York:20200307T220000
END:VEVENT
END:VCALENDAR
