BEGIN:VCALENDAR
PRODID:-//eluceo/ical//2.0/EN
VERSION:2.0
CALSCALE:GREGORIAN
BEGIN:VEVENT
UID:7ccc910c2c636aba50ffa9ded6647967
DTSTAMP:20260420T172713Z
SUMMARY:Telling the Stories of Your Life
DESCRIPTION:Jewish Federation & Foundation of Rockland County\nCommunity Ca
 lendar\nhttps://jewishrockland.org/calendar/telling-the-stories-of-your-li
 fe-1745353625\n\nPresenter Ivy Eisenberg will enlighten us about the art o
 f first-person storytelling while sharing some of her own stories. Ivy is 
 an award-winning storyteller\, humor writer and comedian who performs regu
 larly throughout the tri-state area.
DTSTART;TZID=America/New_York:20250507T190000
DTEND;TZID=America/New_York:20250507T203000
END:VEVENT
END:VCALENDAR
