BEGIN:VCALENDAR
PRODID:-//eluceo/ical//2.0/EN
VERSION:2.0
CALSCALE:GREGORIAN
BEGIN:VEVENT
UID:4adb361f0bcbb396e69f81144ec200ac
DTSTAMP:20260422T212218Z
SUMMARY:Temple Emanuel of the Pascack Valley Purim Celebration
DESCRIPTION:Jewish Federation & Foundation of Rockland County\nCommunity Ca
 lendar\nhttps://jewishrockland.org/calendar/temple-emanuel-of-the-pascack-
 valley-purim-celebration\n\nPurim Celebration
DTSTART;TZID=America/New_York:20130223T190000
DTEND;TZID=America/New_York:20130224T190000
END:VEVENT
END:VCALENDAR
