BEGIN:VCALENDAR
PRODID:-//eluceo/ical//2.0/EN
VERSION:2.0
CALSCALE:GREGORIAN
BEGIN:VEVENT
UID:ec42d4071aac02c144509795d2c14301
DTSTAMP:20260420T151425Z
SUMMARY:Terrorism in France ... Where do we go from here with David Harris
DESCRIPTION:Jewish Federation & Foundation of Rockland County\nCommunity Ca
 lendar\nhttps://jewishrockland.org/calendar/terrorism-in-france-david-harr
 is\n\nThe Holocaust Museum and Study Center and the Rockland County Board 
 of Rabbis\, in conjunction with OJC and AJC\, is pleased to bring back Dav
 id Harris to address our community.
DTSTART;TZID=America/New_York:20150316T190000
DTEND;TZID=America/New_York:20150316T210000
END:VEVENT
END:VCALENDAR
