BEGIN:VCALENDAR
PRODID:-//eluceo/ical//2.0/EN
VERSION:2.0
CALSCALE:GREGORIAN
BEGIN:VEVENT
UID:1c1c559e51397ed9a9a0bc9f8f69ce3d
DTSTAMP:20260423T052512Z
SUMMARY:Text and Context with Rabbi Craig Scheff 
DESCRIPTION:Jewish Federation & Foundation of Rockland County\nCommunity Ca
 lendar\nhttps://jewishrockland.org/calendar/text-and-context-with-rabbi-cr
 aig-scheff-75648\n\nParashat hashavua (weekly Torah portion) with Rabbi Sc
 heff
DTSTART;TZID=America/New_York:20140807T100000
DTEND;TZID=America/New_York:20140807T110000
END:VEVENT
END:VCALENDAR
